BEGIN:VCALENDAR
VERSION:2.0
PRODID:-//ical.marudot.com//iCal Event Maker
CALSCALE:GREGORIAN
BEGIN:VTIMEZONE
TZID:Europe/London
LAST-MODIFIED:20250410T142247Z
TZURL:https://www.tzurl.org/zoneinfo-outlook/Europe/London
X-LIC-LOCATION:Europe/London
BEGIN:DAYLIGHT
TZNAME:BST
TZOFFSETFROM:+0000
TZOFFSETTO:+0100
DTSTART:19700329T010000
RRULE:FREQ=YEARLY;BYMONTH=3;BYDAY=-1SU
END:DAYLIGHT
BEGIN:STANDARD
TZNAME:GMT
TZOFFSETFROM:+0100
TZOFFSETTO:+0000
DTSTART:19701025T020000
RRULE:FREQ=YEARLY;BYMONTH=10;BYDAY=-1SU
END:STANDARD
END:VTIMEZONE
BEGIN:VEVENT
DTSTAMP:20260404T075201Z
UID:1775288076243-27320@ical.marudot.com
DTSTART;TZID=Europe/London:20260405T100000
DTEND;TZID=Europe/London:20260405T110000
SUMMARY:FMC Worship
LOCATION:@ Trinity
END:VEVENT
BEGIN:VEVENT
DTSTAMP:20260404T075201Z
UID:1775288102803-47581@ical.marudot.com
DTSTART;TZID=Europe/London:20260412T103000
DTEND;TZID=Europe/London:20260412T113000
SUMMARY:FMC Worship
LOCATION:at the URC
END:VEVENT
BEGIN:VEVENT
DTSTAMP:20260404T075201Z
UID:1775288133079-52038@ical.marudot.com
DTSTART;TZID=Europe/London:20260419T100000
DTEND;TZID=Europe/London:20260419T110000
SUMMARY:FMC Worship
LOCATION:@ Trinity
END:VEVENT
BEGIN:VEVENT
DTSTAMP:20260404T075201Z
UID:1775288814331-11631@ical.marudot.com
DTSTART;TZID=Europe/London:20260419T180000
DTEND;TZID=Europe/London:20260419T190000
SUMMARY:FMC Healing & Wholeness Service
LOCATION:@ Trinity
END:VEVENT
BEGIN:VEVENT
DTSTAMP:20260404T075201Z
UID:1775288159491-42573@ical.marudot.com
DTSTART;TZID=Europe/London:20260426T100000
DTEND;TZID=Europe/London:20260426T110000
SUMMARY:FMC Service
LOCATION:@ Seaton Road
END:VEVENT
BEGIN:VEVENT
DTSTAMP:20260404T075201Z
UID:1775288752914-59358@ical.marudot.com
DTSTART;TZID=Europe/London:20260503T100000
DTEND;TZID=Europe/London:20260503T110000
SUMMARY:FMC Worship
LOCATION:@ Trinity
END:VEVENT
BEGIN:VEVENT
DTSTAMP:20260404T075201Z
UID:1775288900402-27626@ical.marudot.com
DTSTART;TZID=Europe/London:20260503T100000
DTEND;TZID=Europe/London:20260503T110000
SUMMARY:FMC Worship
LOCATION:@ Trimley
END:VEVENT
BEGIN:VEVENT
DTSTAMP:20260404T075201Z
UID:1775288926802-54398@ical.marudot.com
DTSTART;TZID=Europe/London:20260510T100000
DTEND;TZID=Europe/London:20260510T110000
SUMMARY:FMC Worship
LOCATION:@ Seaton Road
END:VEVENT
BEGIN:VEVENT
DTSTAMP:20260404T075201Z
UID:1775288954714-99983@ical.marudot.com
DTSTART;TZID=Europe/London:20260517T100000
DTEND;TZID=Europe/London:20260517T110000
SUMMARY:FMC Worship
LOCATION:@ Trinity
END:VEVENT
BEGIN:VEVENT
DTSTAMP:20260404T075201Z
UID:1775288987142-61215@ical.marudot.com
DTSTART;TZID=Europe/London:20260524T100000
DTEND;TZID=Europe/London:20260524T110000
SUMMARY:FMC Worship
LOCATION:@ Seaton Road
END:VEVENT
BEGIN:VEVENT
DTSTAMP:20260404T075201Z
UID:1775289009286-19295@ical.marudot.com
DTSTART;TZID=Europe/London:20260524T100000
DTEND;TZID=Europe/London:20260524T110000
SUMMARY:FMC Worship
LOCATION:@ Trimley
END:VEVENT
BEGIN:VEVENT
DTSTAMP:20260404T075201Z
UID:1775289029338-17961@ical.marudot.com
DTSTART;TZID=Europe/London:20260531T100000
DTEND;TZID=Europe/London:20260531T110000
SUMMARY:FMC Worship
LOCATION:@ Trimley
END:VEVENT
END:VCALENDAR